BEGIN:VCALENDAR
VERSION:2.0
PRODID:-//Netzwerk Neue Musik Baden-W&uuml;rttemberg e.V. - ECPv6.15.20//NONSGML v1.0//EN
CALSCALE:GREGORIAN
METHOD:PUBLISH
X-WR-CALNAME:Netzwerk Neue Musik Baden-W&uuml;rttemberg e.V.
X-ORIGINAL-URL:https://neuemusikbw.de
X-WR-CALDESC:Veranstaltungen für Netzwerk Neue Musik Baden-W&uuml;rttemberg e.V.
REFRESH-INTERVAL;VALUE=DURATION:PT1H
X-Robots-Tag:noindex
X-PUBLISHED-TTL:PT1H
BEGIN:VTIMEZONE
TZID:Europe/Berlin
BEGIN:DAYLIGHT
TZOFFSETFROM:+0100
TZOFFSETTO:+0200
TZNAME:CEST
DTSTART:20240331T010000
END:DAYLIGHT
BEGIN:STANDARD
TZOFFSETFROM:+0200
TZOFFSETTO:+0100
TZNAME:CET
DTSTART:20241027T010000
END:STANDARD
BEGIN:DAYLIGHT
TZOFFSETFROM:+0100
TZOFFSETTO:+0200
TZNAME:CEST
DTSTART:20250330T010000
END:DAYLIGHT
BEGIN:STANDARD
TZOFFSETFROM:+0200
TZOFFSETTO:+0100
TZNAME:CET
DTSTART:20251026T010000
END:STANDARD
BEGIN:DAYLIGHT
TZOFFSETFROM:+0100
TZOFFSETTO:+0200
TZNAME:CEST
DTSTART:20260329T010000
END:DAYLIGHT
BEGIN:STANDARD
TZOFFSETFROM:+0200
TZOFFSETTO:+0100
TZNAME:CET
DTSTART:20261025T010000
END:STANDARD
END:VTIMEZONE
BEGIN:VEVENT
DTSTART;VALUE=DATE:20250808
DTEND;VALUE=DATE:20251006
DTSTAMP:20260420T173011
CREATED:20250630T143333Z
LAST-MODIFIED:20250701T141436Z
UID:850-1754611200-1759708799@neuemusikbw.de
SUMMARY:Glasotronik - même
DESCRIPTION:Klänge – Objekte – Bilder – Szenen \nKlangkunstausstellung mit Arbeiten aus dem Zyklus même u.a. magneto Klang-\, Raum-\, Videoinstallation \nMit GLASOTRONIK même präsentiert das Museum Ulm im Rahmen der Ausstellung „Museum Ulm neu buchstabiert. Teil 2: M-Z“ zu Gast in der Kunsthalle Weishaupt zwei Module aus dem même-Zyklus des Komponisten\, Klang- und Medienkünstlers Andreas H.H. Suberg in einem außergewöhnlichen intermedialen Veranstaltungsformat\, das das multisensorische Wahrnehmungserlebnis des Publikums befördert.\nDer intermediale glasotronische même-Zyklus bezieht sich auf das rätselhafte Werk von Marcel Duchamp\, insbesondere Das Große Glas oder Die Braut von ihren Junggesellen nackt entblößt\, sogar. Neben den vielfältigen Querbezügen faszinierten die analogen Allegorien in den Texten der Blindenerzählung aus De gli eroici furori (Von den heroischen Leidenschaften) von Giordano Bruno\, die in dem Musiktheater O infelici amanti ihren\nNiederschlag fanden. \nEin Koproduktionsprojekt mit dem Museum Ulm\nGefördert von Musikfonds und dem Beauftragten der Bundesregierung für Kultur und Medien
URL:https://neuemusikbw.de/event/glasotronik-meme/
LOCATION:Kunsthalle Weishaupt\, Hans-und-Sophie-Scholl-Platz 1\, Ulm\, 89073
CATEGORIES:Ausstellungen
ORGANIZER;CN="Museum Ulm":MAILTO:info.museum@ulm.de
END:VEVENT
END:VCALENDAR