BEGIN:VCALENDAR
VERSION:2.0
PRODID:-//Netzwerk Neue Musik Baden-W&uuml;rttemberg e.V. - ECPv6.15.20//NONSGML v1.0//EN
CALSCALE:GREGORIAN
METHOD:PUBLISH
X-WR-CALNAME:Netzwerk Neue Musik Baden-W&uuml;rttemberg e.V.
X-ORIGINAL-URL:https://neuemusikbw.de
X-WR-CALDESC:Veranstaltungen für Netzwerk Neue Musik Baden-W&uuml;rttemberg e.V.
REFRESH-INTERVAL;VALUE=DURATION:PT1H
X-Robots-Tag:noindex
X-PUBLISHED-TTL:PT1H
BEGIN:VTIMEZONE
TZID:Europe/Berlin
BEGIN:DAYLIGHT
TZOFFSETFROM:+0100
TZOFFSETTO:+0200
TZNAME:CEST
DTSTART:20240331T010000
END:DAYLIGHT
BEGIN:STANDARD
TZOFFSETFROM:+0200
TZOFFSETTO:+0100
TZNAME:CET
DTSTART:20241027T010000
END:STANDARD
BEGIN:DAYLIGHT
TZOFFSETFROM:+0100
TZOFFSETTO:+0200
TZNAME:CEST
DTSTART:20250330T010000
END:DAYLIGHT
BEGIN:STANDARD
TZOFFSETFROM:+0200
TZOFFSETTO:+0100
TZNAME:CET
DTSTART:20251026T010000
END:STANDARD
BEGIN:DAYLIGHT
TZOFFSETFROM:+0100
TZOFFSETTO:+0200
TZNAME:CEST
DTSTART:20260329T010000
END:DAYLIGHT
BEGIN:STANDARD
TZOFFSETFROM:+0200
TZOFFSETTO:+0100
TZNAME:CET
DTSTART:20261025T010000
END:STANDARD
END:VTIMEZONE
BEGIN:VEVENT
DTSTART;VALUE=DATE:20250808
DTEND;VALUE=DATE:20251006
DTSTAMP:20260420T160858
CREATED:20250630T143333Z
LAST-MODIFIED:20250701T141436Z
UID:850-1754611200-1759708799@neuemusikbw.de
SUMMARY:Glasotronik - même
DESCRIPTION:Klänge – Objekte – Bilder – Szenen \nKlangkunstausstellung mit Arbeiten aus dem Zyklus même u.a. magneto Klang-\, Raum-\, Videoinstallation \nMit GLASOTRONIK même präsentiert das Museum Ulm im Rahmen der Ausstellung „Museum Ulm neu buchstabiert. Teil 2: M-Z“ zu Gast in der Kunsthalle Weishaupt zwei Module aus dem même-Zyklus des Komponisten\, Klang- und Medienkünstlers Andreas H.H. Suberg in einem außergewöhnlichen intermedialen Veranstaltungsformat\, das das multisensorische Wahrnehmungserlebnis des Publikums befördert.\nDer intermediale glasotronische même-Zyklus bezieht sich auf das rätselhafte Werk von Marcel Duchamp\, insbesondere Das Große Glas oder Die Braut von ihren Junggesellen nackt entblößt\, sogar. Neben den vielfältigen Querbezügen faszinierten die analogen Allegorien in den Texten der Blindenerzählung aus De gli eroici furori (Von den heroischen Leidenschaften) von Giordano Bruno\, die in dem Musiktheater O infelici amanti ihren\nNiederschlag fanden. \nEin Koproduktionsprojekt mit dem Museum Ulm\nGefördert von Musikfonds und dem Beauftragten der Bundesregierung für Kultur und Medien
URL:https://neuemusikbw.de/event/glasotronik-meme/
LOCATION:Kunsthalle Weishaupt\, Hans-und-Sophie-Scholl-Platz 1\, Ulm\, 89073
CATEGORIES:Ausstellungen
ORGANIZER;CN="Museum Ulm":MAILTO:info.museum@ulm.de
END:VEVENT
BEGIN:VEVENT
DTSTART;VALUE=DATE:20251015
DTEND;VALUE=DATE:20251020
DTSTAMP:20260420T160858
CREATED:20250722T113741Z
LAST-MODIFIED:20250722T114138Z
UID:930-1760486400-1760918399@neuemusikbw.de
SUMMARY:The Loudest Sky - Ein Festival für Auge und Ohr
DESCRIPTION:Inspiriert durch das Lebenswerk des Künstlers Bernardo M. Kuczer \nAls Bernardo M. Kuczer am 22. Juni 2023 in Freiburg starb\, starb ein großer Unbekannter. Kuczer\, der 1955 in Buenos Aires geboren wurde\, blieb zeit seines Lebens ein Geheimtipp. Als Student der Freiburger Musikhochschule wurde er 1984 zu den Darmstädter Ferienkursen eingeladen und für seinen Tonband-Zyklus „Civilización o Barbarie“ mit dem Kranichsteiner Musikpreis ausgezeichnet. Dann\, fünfzehn Jahre später zieht er sich radikal und überraschend aus der Öffentlichkeit zurück. Was in dieser Zeit mittels selbst geschriebener Computerprogramme an Kompositionen und Bildern entstanden ist\, welche Texte und Notizen er hinterlassen hat\, blieb verborgen. \nDas Festival „The Loudest Sky“ gibt erstmals einen Einblick in dieses Lebenswerk\, das keine künstlerischen Grenzen kennt. Fünf Tage lang sind im Freiburger E-Werk seine Musikstücke zu hören und seine digitalen Bilder zu sehen. Kompositionen von Iannis Xenakis\, Luigi Nono\, Karlheinz Stockhausen sowie Giacinto Scelsi und seines Freiburger Lehrers Brian Ferneyhough geben einen Einblick in den Kontext\, in dem Kuczers Arbeiten entstanden sind. Vorträge und Gesprächsrunden mit Weggefährten Kuczers führen in die Werke ein. \nAusstellung LichtRauschen – Kuczers audiovisuelle Topografie\, 16. bis 18. Oktober 2025\, 16 bis 18 Uhr. \nBei allen Veranstaltungen des Festivals ist der Eintritt frei.
URL:https://neuemusikbw.de/event/the-loudest-sky-ein-festival-fuer-auge-und-ohr/
LOCATION:E-WERK Freiburg e.V.\, Eschholzstraße 77\, Freiburg i. Br.\, 79106
CATEGORIES:Festival,Konzerte
END:VEVENT
BEGIN:VEVENT
DTSTART;VALUE=DATE:20251026
DTEND;VALUE=DATE:20251101
DTSTAMP:20260420T160858
CREATED:20250717T172345Z
LAST-MODIFIED:20250717T172345Z
UID:909-1761436800-1761955199@neuemusikbw.de
SUMMARY:LJE Arbeitsphase "MachtSpiele"
DESCRIPTION:In den diesjährigen Herbstferien von Sonntag\, 26.10. bis Freitag\, 31.10. tritt das Landesjugendensemble Neue Musik Baden-Württemberg in Trossingen zusammen\, um das Thema „MachtSpiele“ musikalisch zu verhandeln. Hierzu sind Jugendliche von 12-21 Jahren mit fortgeschrittenen Erfahrungen auf ihrem Instrument herzlich eingeladen. Die Besetzungen sind so flexibel angelegt\, dass alle Instrumente willkommen sind. Wir freuen uns auf alle jungen Musikerinnen und Musiker mit Spaß am Experimentieren und Offenheit für Neues\, die bereit sind\, sich mit ihren individuellen Erfahrungen\, Interessen und Neigungen in die künstlerischen Gestaltungsprozesse einzubringen. \n→ zur Veranstaltungsseite
URL:https://neuemusikbw.de/event/lje-arbeitsphase-machtspiele/
LOCATION:Bundesakademie für musikalische Jugendbildung Trossingen\, Hugo-Herrmann-Straße 22\, Trossingen\, Baden-Württemberg\, 78647
ORGANIZER;CN="Netzwerk Neue Musik Baden-W%C3%BCrttemberg e.V.":MAILTO:mail@neuemusikbw.de
END:VEVENT
BEGIN:VEVENT
DTSTART;TZID=Europe/Berlin:20251026T103000
DTEND;TZID=Europe/Berlin:20251026T150000
DTSTAMP:20260420T160858
CREATED:20250910T132115Z
LAST-MODIFIED:20250930T110056Z
UID:957-1761474600-1761490800@neuemusikbw.de
SUMMARY:WIR WÖLLEN FREI SEIN!
DESCRIPTION:Vertonung der 12 Artikel der Bauernschaft von 1525 mit dem Ensemble Goldhaltig. \nPerformative und akusmatische Annäherung an die 12 Bauernartikel von 1525 nach der Konzeptkomposition von Bernhard Thomas Klein mit dem Ensemble Goldhaltig mit Soundscapes zu den einzelnen Artikeln. In drei Teilen 10:30 / 13:00 / 14:30 Uhr.
URL:https://neuemusikbw.de/event/wir-woellen-frei-sein/
LOCATION:Bauernhaus-Museum Allgäu-Oberschwaben Wolfegg\, Vogter Straße 4\, Wolfegg\, Baden-Württemberg\, 88364
CATEGORIES:Konzerte
ATTACH;FMTTYPE=image/jpeg:https://neuemusikbw.de/wp-content/uploads/2025/09/EnsembleGoldhaltigBauernartikel.jpg
ORGANIZER;CN="Ensemble Goldhaltig":MAILTO:info@bernhard-thomas-klein.de
END:VEVENT
BEGIN:VEVENT
DTSTART;TZID=Europe/Berlin:20251031T180000
DTEND;TZID=Europe/Berlin:20251031T200000
DTSTAMP:20260420T160858
CREATED:20250925T132131Z
LAST-MODIFIED:20251004T143652Z
UID:974-1761933600-1761940800@neuemusikbw.de
SUMMARY:MachtSpiele – Abschlusskonzert des Landesjugendensembles Neue Musik
DESCRIPTION:Das Landesjugendensemble Neue Musik Baden-Württemberg (LJE) gestaltet als Abschluss seiner diesjährigen großen Arbeitsphase ein Programm rund um das Thema „MachtSpiele“. Ausgehend von offenen Konzepten junger Komponistinnen und Komponisten gestalten die insgesamt knapp 20 Musikerinnen und Musiker einen Abend voll musikalischer Überraschungen. \nNeben Fragen der Macht innerhalb und jenseits von Musik kommt dabei auch die Welt des Spiels nicht zu kurz: Lassen sich zum Beispiel Interaktionsmuster\, Rollen und Verläufe von Gesellschaftsspielen musikalisch umsetzen – und erkennt man sie im Ergebnis wieder? Was passiert\, wenn sich ein Ensemble um eine Partitur versammelt wie um ein Spielbrett – und jeder spielt so\, wie sich das Notierte vom jeweiligen Standpunkt aus präsentiert? Solchen und weiteren Fragen spüren die jungen Musikerinnen und Musiker unter der Künstlerischen Leitung von Lena Sefrin\, Musikpädagogin und Dirigentin sowie Dozentin in der Lehrer:innenbildung\, und Philipp Vandré\, Dozent für Komposition und Musiktheorie an der Stuttgarter Musikschule und an verschiedenen Hochschulen in dieser Arbeitsphase in der Bundesakademie für musikalische Jugendbildung Trossingen und dem abschließenden Konzert in Villingen-Schwenningen nach. \nMit Kompositionen von Philipp Borkowitsch\, Theo Hölscher\, Tom Nguyen\, Anna Ohlmann und Nelson Zhang. \nInformationen zur Anreise: https://vsraeume.de/location/theater-am-ring/
URL:https://neuemusikbw.de/event/lje-konzert-machtspiele/
LOCATION:Theater am Ring\, Romäusring 1\, Villingen-Schwenningen\, Baden-Württemberg\, 78050
CATEGORIES:Konzerte,LJE
ATTACH;FMTTYPE=image/jpeg:https://neuemusikbw.de/wp-content/uploads/2025/09/Flyerbild-Vorschlag_quer.jpg
ORGANIZER;CN="Netzwerk Neue Musik Baden-W%C3%BCrttemberg e.V.":MAILTO:mail@neuemusikbw.de
END:VEVENT
END:VCALENDAR